BEGIN:VCALENDAR
VERSION:2.0
PRODID:-//Tukios.com/
BEGIN:VEVENT
UID:fc18cbb5-f7f4-41e3-bf54-a591ff95aee0@www.luybendilday.com
DTSTAMP:20260424T041345Z
DTSTART:20260515T180000Z
DTEND:20260515T190000Z
SUMMARY:Celebration of Life
DESCRIPTION:
URL:https://www.luybendilday.com/obituaries/william-bill-catton
LOCATION: 5161 E Arbor Rd  Long Beach CA 90808
GEO:33.8432916;-118.1318722
END:VEVENT
END:VCALENDAR